BEGIN:VCALENDAR
VERSION:2.0
PRODID:-//Littleport Life - ECPv6.7.1//NONSGML v1.0//EN
CALSCALE:GREGORIAN
METHOD:PUBLISH
X-WR-CALNAME:Littleport Life
X-ORIGINAL-URL:https://www.littleportlife.co.uk
X-WR-CALDESC:Events for Littleport Life
REFRESH-INTERVAL;VALUE=DURATION:PT1H
X-Robots-Tag:noindex
X-PUBLISHED-TTL:PT1H
BEGIN:VTIMEZONE
TZID:Europe/London
BEGIN:DAYLIGHT
TZOFFSETFROM:+0000
TZOFFSETTO:+0100
TZNAME:BST
DTSTART:20150329T010000
END:DAYLIGHT
BEGIN:STANDARD
TZOFFSETFROM:+0100
TZOFFSETTO:+0000
TZNAME:GMT
DTSTART:20151025T010000
END:STANDARD
END:VTIMEZONE
BEGIN:VEVENT
DTSTART;TZID=Europe/London:20151231T204500
DTEND;TZID=Europe/London:20151231T204500
DTSTAMP:20260420T211020
CREATED:20151003T081259Z
LAST-MODIFIED:20151003T082239Z
UID:842-1451594700-1451594700@www.littleportlife.co.uk
SUMMARY:Rocking Revival  
DESCRIPTION:
URL:https://www.littleportlife.co.uk/event/rocking-revival-2/
LOCATION:Cambridgeshire
CATEGORIES:Live Music
END:VEVENT
BEGIN:VEVENT
DTSTART;TZID=Europe/London:20151231T200000
DTEND;TZID=Europe/London:20151231T200000
DTSTAMP:20260420T211020
CREATED:20151003T081259Z
LAST-MODIFIED:20151003T082010Z
UID:843-1451592000-1451592000@www.littleportlife.co.uk
SUMMARY:Family New Year’s Eve Disco
DESCRIPTION:
URL:https://www.littleportlife.co.uk/event/family-new-years-eve-disco/
LOCATION:Littleport Leisure Centre\, Camel Road\, Littleport\, Cambridgeshire\, CB6 1EW\, United Kingdom
CATEGORIES:Discos
END:VEVENT
BEGIN:VEVENT
DTSTART;TZID=Europe/London:20151227T110000
DTEND;TZID=Europe/London:20151227T110000
DTSTAMP:20260420T211020
CREATED:20151003T081259Z
LAST-MODIFIED:20151003T083606Z
UID:841-1451214000-1451214000@www.littleportlife.co.uk
SUMMARY:Christmas Sports Challenge
DESCRIPTION:
URL:https://www.littleportlife.co.uk/event/christmas-sports-challenge/
LOCATION:Littleport Leisure Centre\, Camel Road\, Littleport\, Cambridgeshire\, CB6 1EW\, United Kingdom
CATEGORIES:Sporting Events
END:VEVENT
BEGIN:VEVENT
DTSTART;TZID=Europe/London:20151224T204500
DTEND;TZID=Europe/London:20151224T204500
DTSTAMP:20260420T211020
CREATED:20151003T081258Z
LAST-MODIFIED:20151003T082239Z
UID:840-1450989900-1450989900@www.littleportlife.co.uk
SUMMARY:Take 2
DESCRIPTION:60s\, 70s\, 80s and more
URL:https://www.littleportlife.co.uk/event/take-2-2/
LOCATION:Cambridgeshire
CATEGORIES:Live Music
END:VEVENT
BEGIN:VEVENT
DTSTART;TZID=Europe/London:20151223T000000
DTEND;TZID=Europe/London:20151223T000000
DTSTAMP:20260420T211020
CREATED:20151003T081258Z
LAST-MODIFIED:20151003T082010Z
UID:839-1450828800-1450828800@www.littleportlife.co.uk
SUMMARY:Family Christmas Disco
DESCRIPTION:
URL:https://www.littleportlife.co.uk/event/family-christmas-disco/
LOCATION:Littleport Leisure Centre\, Camel Road\, Littleport\, Cambridgeshire\, CB6 1EW\, United Kingdom
CATEGORIES:Discos
END:VEVENT
BEGIN:VEVENT
DTSTART;TZID=Europe/London:20151220T190000
DTEND;TZID=Europe/London:20151220T190000
DTSTAMP:20260420T211020
CREATED:20151003T081258Z
LAST-MODIFIED:20151003T083804Z
UID:838-1450638000-1450638000@www.littleportlife.co.uk
SUMMARY:Quiz Night
DESCRIPTION:In Aid of Littleport Lions Korfball
URL:https://www.littleportlife.co.uk/event/quiz-night-5/
LOCATION:Littleport Leisure Centre\, Camel Road\, Littleport\, Cambridgeshire\, CB6 1EW\, United Kingdom
CATEGORIES:Game Events
END:VEVENT
BEGIN:VEVENT
DTSTART;TZID=Europe/London:20151220T123000
DTEND;TZID=Europe/London:20151220T123000
DTSTAMP:20260420T211020
CREATED:20151003T081258Z
LAST-MODIFIED:20151003T081258Z
UID:837-1450614600-1450614600@www.littleportlife.co.uk
SUMMARY:Roast Carvery
DESCRIPTION:
URL:https://www.littleportlife.co.uk/event/roast-carvery-9/
LOCATION:Littleport Leisure Centre\, Camel Road\, Littleport\, Cambridgeshire\, CB6 1EW\, United Kingdom
END:VEVENT
BEGIN:VEVENT
DTSTART;TZID=Europe/London:20151219T203000
DTEND;TZID=Europe/London:20151219T203000
DTSTAMP:20260420T211020
CREATED:20151003T081258Z
LAST-MODIFIED:20151003T082239Z
UID:836-1450557000-1450557000@www.littleportlife.co.uk
SUMMARY:Don’t Panic
DESCRIPTION:
URL:https://www.littleportlife.co.uk/event/dont-panic/
LOCATION:The Crown Inn\, Main Street\, Littleport\, Cambridgeshire\, CB6 1PJ\, United Kingdom
CATEGORIES:Live Music
END:VEVENT
BEGIN:VEVENT
DTSTART;TZID=Europe/London:20151219T193000
DTEND;TZID=Europe/London:20151219T193000
DTSTAMP:20260420T211020
CREATED:20151003T081258Z
LAST-MODIFIED:20151003T083804Z
UID:835-1450553400-1450553400@www.littleportlife.co.uk
SUMMARY:Bob’s Christmas Bingo
DESCRIPTION:Followed by Club Disco
URL:https://www.littleportlife.co.uk/event/bobs-christmas-bingo/
LOCATION:Cambridgeshire
CATEGORIES:Game Events
END:VEVENT
BEGIN:VEVENT
DTSTART;TZID=Europe/London:20151218T193000
DTEND;TZID=Europe/London:20151218T193000
DTSTAMP:20260420T211020
CREATED:20151003T081258Z
LAST-MODIFIED:20151003T083804Z
UID:834-1450467000-1450467000@www.littleportlife.co.uk
SUMMARY:Texas Hold ‘em Poker Tournament
DESCRIPTION:
URL:https://www.littleportlife.co.uk/event/texas-hold-em-poker-tournament-4/
LOCATION:Littleport Leisure Centre\, Camel Road\, Littleport\, Cambridgeshire\, CB6 1EW\, United Kingdom
CATEGORIES:Game Events
END:VEVENT
BEGIN:VEVENT
DTSTART;TZID=Europe/London:20151213T153000
DTEND;TZID=Europe/London:20151213T153000
DTSTAMP:20260420T211020
CREATED:20151003T081258Z
LAST-MODIFIED:20151003T081258Z
UID:833-1450020600-1450020600@www.littleportlife.co.uk
SUMMARY:Tea with Santa
DESCRIPTION:
URL:https://www.littleportlife.co.uk/event/tea-with-santa/
LOCATION:Littleport Leisure Centre\, Camel Road\, Littleport\, Cambridgeshire\, CB6 1EW\, United Kingdom
END:VEVENT
BEGIN:VEVENT
DTSTART;TZID=Europe/London:20151212T204500
DTEND;TZID=Europe/London:20151212T204500
DTSTAMP:20260420T211020
CREATED:20151003T081258Z
LAST-MODIFIED:20151003T082239Z
UID:831-1449953100-1449953100@www.littleportlife.co.uk
SUMMARY:Mel Stevens
DESCRIPTION:
URL:https://www.littleportlife.co.uk/event/mel-stevens/
LOCATION:Cambridgeshire
CATEGORIES:Live Music
END:VEVENT
BEGIN:VEVENT
DTSTART;TZID=Europe/London:20151212T190000
DTEND;TZID=Europe/London:20151212T190000
DTSTAMP:20260420T211020
CREATED:20151003T081258Z
LAST-MODIFIED:20151003T081258Z
UID:832-1449946800-1449946800@www.littleportlife.co.uk
SUMMARY:Christmas Party Night
DESCRIPTION:
URL:https://www.littleportlife.co.uk/event/christmas-party-night/
LOCATION:Littleport Leisure Centre\, Camel Road\, Littleport\, Cambridgeshire\, CB6 1EW\, United Kingdom
END:VEVENT
BEGIN:VEVENT
DTSTART;TZID=Europe/London:20151211T000000
DTEND;TZID=Europe/London:20151211T000000
DTSTAMP:20260420T211020
CREATED:20151003T081258Z
LAST-MODIFIED:20151003T081258Z
UID:830-1449792000-1449792000@www.littleportlife.co.uk
SUMMARY:Blood Donors
DESCRIPTION:Two Sessions
URL:https://www.littleportlife.co.uk/event/blood-donors/
LOCATION:Littleport Leisure Centre\, Camel Road\, Littleport\, Cambridgeshire\, CB6 1EW\, United Kingdom
END:VEVENT
BEGIN:VEVENT
DTSTART;TZID=Europe/London:20151208T191500
DTEND;TZID=Europe/London:20151208T191500
DTSTAMP:20260420T211020
CREATED:20151003T081258Z
LAST-MODIFIED:20151003T081258Z
UID:829-1449602100-1449602100@www.littleportlife.co.uk
SUMMARY:Christmas Party
DESCRIPTION:Competition. Homemade Christmas Decoration
URL:https://www.littleportlife.co.uk/event/christmas-party/
LOCATION:Cambridgeshire
END:VEVENT
BEGIN:VEVENT
DTSTART;TZID=Europe/London:20151207T170000
DTEND;TZID=Europe/London:20151207T170000
DTSTAMP:20260420T211020
CREATED:20151003T081258Z
LAST-MODIFIED:20151003T083606Z
UID:828-1449507600-1449507600@www.littleportlife.co.uk
SUMMARY:Over 60’s Bowls Tournament
DESCRIPTION:
URL:https://www.littleportlife.co.uk/event/over-60s-bowls-tournament-4/
LOCATION:Littleport Leisure Centre\, Camel Road\, Littleport\, Cambridgeshire\, CB6 1EW\, United Kingdom
CATEGORIES:Sporting Events
END:VEVENT
BEGIN:VEVENT
DTSTART;TZID=Europe/London:20151206T123000
DTEND;TZID=Europe/London:20151206T123000
DTSTAMP:20260420T211020
CREATED:20151003T081258Z
LAST-MODIFIED:20151003T081258Z
UID:827-1449405000-1449405000@www.littleportlife.co.uk
SUMMARY:Roast Carvery
DESCRIPTION:
URL:https://www.littleportlife.co.uk/event/roast-carvery-8/
LOCATION:Littleport Leisure Centre\, Camel Road\, Littleport\, Cambridgeshire\, CB6 1EW\, United Kingdom
END:VEVENT
BEGIN:VEVENT
DTSTART;TZID=Europe/London:20151206T000000
DTEND;TZID=Europe/London:20151206T000000
DTSTAMP:20260420T211020
CREATED:20151003T081258Z
LAST-MODIFIED:20151003T081417Z
UID:826-1449360000-1449360000@www.littleportlife.co.uk
SUMMARY:EABCC Dog Show
DESCRIPTION:Indoors
URL:https://www.littleportlife.co.uk/event/eabcc-dog-show/
LOCATION:Littleport Leisure Centre\, Camel Road\, Littleport\, Cambridgeshire\, CB6 1EW\, United Kingdom
CATEGORIES:Dog Shows
END:VEVENT
BEGIN:VEVENT
DTSTART;TZID=Europe/London:20151205T204500
DTEND;TZID=Europe/London:20151205T204500
DTSTAMP:20260420T211020
CREATED:20151003T081258Z
LAST-MODIFIED:20151003T081258Z
UID:824-1449348300-1449348300@www.littleportlife.co.uk
SUMMARY:The Business
DESCRIPTION:
URL:https://www.littleportlife.co.uk/event/the-business/
LOCATION:Cambridgeshire
END:VEVENT
BEGIN:VEVENT
DTSTART;TZID=Europe/London:20151205T203000
DTEND;TZID=Europe/London:20151205T203000
DTSTAMP:20260420T211020
CREATED:20151003T081258Z
LAST-MODIFIED:20151003T082239Z
UID:825-1449347400-1449347400@www.littleportlife.co.uk
SUMMARY:Mark Josfe
DESCRIPTION:
URL:https://www.littleportlife.co.uk/event/mark-josfe/
LOCATION:The Crown Inn\, Main Street\, Littleport\, Cambridgeshire\, CB6 1PJ\, United Kingdom
CATEGORIES:Live Music
END:VEVENT
BEGIN:VEVENT
DTSTART;TZID=Europe/London:20151201T190000
DTEND;TZID=Europe/London:20151201T190000
DTSTAMP:20260420T211020
CREATED:20151003T081258Z
LAST-MODIFIED:20151003T083804Z
UID:823-1448996400-1448996400@www.littleportlife.co.uk
SUMMARY:Quiz Night
DESCRIPTION:
URL:https://www.littleportlife.co.uk/event/quiz-night-4/
LOCATION:The Crown Inn\, Main Street\, Littleport\, Cambridgeshire\, CB6 1PJ\, United Kingdom
CATEGORIES:Game Events
END:VEVENT
BEGIN:VEVENT
DTSTART;TZID=Europe/London:20151129T203000
DTEND;TZID=Europe/London:20151129T203000
DTSTAMP:20260420T211020
CREATED:20151003T081258Z
LAST-MODIFIED:20151003T082239Z
UID:822-1448829000-1448829000@www.littleportlife.co.uk
SUMMARY:Bondy
DESCRIPTION:
URL:https://www.littleportlife.co.uk/event/bondy-2/
LOCATION:The Crown Inn\, Main Street\, Littleport\, Cambridgeshire\, CB6 1PJ\, United Kingdom
CATEGORIES:Live Music
END:VEVENT
BEGIN:VEVENT
DTSTART;TZID=Europe/London:20151129T190000
DTEND;TZID=Europe/London:20151129T190000
DTSTAMP:20260420T211020
CREATED:20151003T081258Z
LAST-MODIFIED:20151003T083804Z
UID:821-1448823600-1448823600@www.littleportlife.co.uk
SUMMARY:Quiz Night To Raise Funds for Kenya
DESCRIPTION:
URL:https://www.littleportlife.co.uk/event/quiz-night-to-raise-funds-for-kenya/
LOCATION:Littleport Leisure Centre\, Camel Road\, Littleport\, Cambridgeshire\, CB6 1EW\, United Kingdom
CATEGORIES:Game Events
END:VEVENT
BEGIN:VEVENT
DTSTART;TZID=Europe/London:20151129T123000
DTEND;TZID=Europe/London:20151129T123000
DTSTAMP:20260420T211020
CREATED:20151003T081258Z
LAST-MODIFIED:20151003T081258Z
UID:820-1448800200-1448800200@www.littleportlife.co.uk
SUMMARY:Roast Carvery
DESCRIPTION:
URL:https://www.littleportlife.co.uk/event/roast-carvery-7/
LOCATION:Littleport Leisure Centre\, Camel Road\, Littleport\, Cambridgeshire\, CB6 1EW\, United Kingdom
END:VEVENT
BEGIN:VEVENT
DTSTART;TZID=Europe/London:20151129T000000
DTEND;TZID=Europe/London:20151129T000000
DTSTAMP:20260420T211020
CREATED:20151003T081257Z
LAST-MODIFIED:20151003T083606Z
UID:819-1448755200-1448755200@www.littleportlife.co.uk
SUMMARY:Judo Competition
DESCRIPTION:
URL:https://www.littleportlife.co.uk/event/judo-competition/
LOCATION:Littleport Leisure Centre\, Camel Road\, Littleport\, Cambridgeshire\, CB6 1EW\, United Kingdom
CATEGORIES:Sporting Events
END:VEVENT
BEGIN:VEVENT
DTSTART;TZID=Europe/London:20151128T204500
DTEND;TZID=Europe/London:20151128T204500
DTSTAMP:20260420T211020
CREATED:20151003T081257Z
LAST-MODIFIED:20151003T082239Z
UID:817-1448743500-1448743500@www.littleportlife.co.uk
SUMMARY:Olly Murrs Tribute Show and Club Disco
DESCRIPTION:Tickets Only
URL:https://www.littleportlife.co.uk/event/olly-murrs-tribute-show-and-club-disco/
LOCATION:Cambridgeshire
CATEGORIES:Discos,Live Music
END:VEVENT
BEGIN:VEVENT
DTSTART;TZID=Europe/London:20151128T203000
DTEND;TZID=Europe/London:20151128T203000
DTSTAMP:20260420T211020
CREATED:20151003T081257Z
LAST-MODIFIED:20151003T082239Z
UID:818-1448742600-1448742600@www.littleportlife.co.uk
SUMMARY:Martha’s  Wood
DESCRIPTION:
URL:https://www.littleportlife.co.uk/event/marthas-wood/
LOCATION:The Crown Inn\, Main Street\, Littleport\, Cambridgeshire\, CB6 1PJ\, United Kingdom
CATEGORIES:Live Music
END:VEVENT
BEGIN:VEVENT
DTSTART;TZID=Europe/London:20151122T123000
DTEND;TZID=Europe/London:20151122T123000
DTSTAMP:20260420T211020
CREATED:20151003T081257Z
LAST-MODIFIED:20151003T081257Z
UID:816-1448195400-1448195400@www.littleportlife.co.uk
SUMMARY:Roast Carvery
DESCRIPTION:
URL:https://www.littleportlife.co.uk/event/roast-carvery-6/
LOCATION:Littleport Leisure Centre\, Camel Road\, Littleport\, Cambridgeshire\, CB6 1EW\, United Kingdom
END:VEVENT
BEGIN:VEVENT
DTSTART;TZID=Europe/London:20151122T000000
DTEND;TZID=Europe/London:20151122T000000
DTSTAMP:20260420T211020
CREATED:20151003T081257Z
LAST-MODIFIED:20151003T081417Z
UID:815-1448150400-1448150400@www.littleportlife.co.uk
SUMMARY:ECSSC Dog Show
DESCRIPTION:Indoors
URL:https://www.littleportlife.co.uk/event/ecssc-dog-show/
LOCATION:Littleport Leisure Centre\, Camel Road\, Littleport\, Cambridgeshire\, CB6 1EW\, United Kingdom
CATEGORIES:Dog Shows
END:VEVENT
BEGIN:VEVENT
DTSTART;TZID=Europe/London:20151121T204500
DTEND;TZID=Europe/London:20151121T204500
DTSTAMP:20260420T211020
CREATED:20151003T081257Z
LAST-MODIFIED:20151003T082239Z
UID:812-1448138700-1448138700@www.littleportlife.co.uk
SUMMARY:Mark Steel
DESCRIPTION:
URL:https://www.littleportlife.co.uk/event/mark-steel/
LOCATION:Cambridgeshire
CATEGORIES:Live Music
END:VEVENT
END:VCALENDAR