BEGIN:VCALENDAR
VERSION:2.0
PRODID:-//Littleport Life - ECPv6.7.1//NONSGML v1.0//EN
CALSCALE:GREGORIAN
METHOD:PUBLISH
X-WR-CALNAME:Littleport Life
X-ORIGINAL-URL:https://www.littleportlife.co.uk
X-WR-CALDESC:Events for Littleport Life
REFRESH-INTERVAL;VALUE=DURATION:PT1H
X-Robots-Tag:noindex
X-PUBLISHED-TTL:PT1H
BEGIN:VTIMEZONE
TZID:Europe/London
BEGIN:DAYLIGHT
TZOFFSETFROM:+0000
TZOFFSETTO:+0100
TZNAME:BST
DTSTART:20150329T010000
END:DAYLIGHT
BEGIN:STANDARD
TZOFFSETFROM:+0100
TZOFFSETTO:+0000
TZNAME:GMT
DTSTART:20151025T010000
END:STANDARD
END:VTIMEZONE
BEGIN:VEVENT
DTSTART;TZID=Europe/London:20150905T204500
DTEND;TZID=Europe/London:20150905T204500
DTSTAMP:20260423T191817
CREATED:20151003T081254Z
LAST-MODIFIED:20151003T082241Z
UID:741-1441485900-1441485900@www.littleportlife.co.uk
SUMMARY:The Feds
DESCRIPTION:Soul Vibe Music
URL:https://www.littleportlife.co.uk/event/the-feds/
LOCATION:Cambridgeshire
CATEGORIES:Live Music
END:VEVENT
BEGIN:VEVENT
DTSTART;TZID=Europe/London:20150905T203000
DTEND;TZID=Europe/London:20150905T203000
DTSTAMP:20260423T191817
CREATED:20151003T081254Z
LAST-MODIFIED:20151003T082241Z
UID:743-1441485000-1441485000@www.littleportlife.co.uk
SUMMARY:Becky Rayner
DESCRIPTION:
URL:https://www.littleportlife.co.uk/event/becky-rayner/
LOCATION:The Crown Inn\, Main Street\, Littleport\, Cambridgeshire\, CB6 1PJ\, United Kingdom
CATEGORIES:Live Music
END:VEVENT
BEGIN:VEVENT
DTSTART;TZID=Europe/London:20150905T183000
DTEND;TZID=Europe/London:20150905T183000
DTSTAMP:20260423T191817
CREATED:20151003T081254Z
LAST-MODIFIED:20151003T082010Z
UID:742-1441477800-1441477800@www.littleportlife.co.uk
SUMMARY:Family Disco
DESCRIPTION:
URL:https://www.littleportlife.co.uk/event/family-disco/
LOCATION:Littleport Leisure Centre\, Camel Road\, Littleport\, Cambridgeshire\, CB6 1EW\, United Kingdom
CATEGORIES:Discos
END:VEVENT
BEGIN:VEVENT
DTSTART;TZID=Europe/London:20150902T183000
DTEND;TZID=Europe/London:20150902T183000
DTSTAMP:20260423T191817
CREATED:20151003T081254Z
LAST-MODIFIED:20151003T081254Z
UID:740-1441218600-1441218600@www.littleportlife.co.uk
SUMMARY:Psychic Supper
DESCRIPTION:2 Course Meal & Readings
URL:https://www.littleportlife.co.uk/event/psychic-supper/
LOCATION:Littleport Leisure Centre\, Camel Road\, Littleport\, Cambridgeshire\, CB6 1EW\, United Kingdom
END:VEVENT
END:VCALENDAR