BEGIN:VCALENDAR
VERSION:2.0
PRODID:-//Littleport Life - ECPv6.7.1//NONSGML v1.0//EN
CALSCALE:GREGORIAN
METHOD:PUBLISH
X-WR-CALNAME:Littleport Life
X-ORIGINAL-URL:https://www.littleportlife.co.uk
X-WR-CALDESC:Events for Littleport Life
REFRESH-INTERVAL;VALUE=DURATION:PT1H
X-Robots-Tag:noindex
X-PUBLISHED-TTL:PT1H
BEGIN:VTIMEZONE
TZID:Europe/London
BEGIN:DAYLIGHT
TZOFFSETFROM:+0000
TZOFFSETTO:+0100
TZNAME:BST
DTSTART:20150329T010000
END:DAYLIGHT
BEGIN:STANDARD
TZOFFSETFROM:+0100
TZOFFSETTO:+0000
TZNAME:GMT
DTSTART:20151025T010000
END:STANDARD
END:VTIMEZONE
BEGIN:VEVENT
DTSTART;TZID=Europe/London:20151201T190000
DTEND;TZID=Europe/London:20151201T190000
DTSTAMP:20260421T024038
CREATED:20151003T081258Z
LAST-MODIFIED:20151003T083804Z
UID:823-1448996400-1448996400@www.littleportlife.co.uk
SUMMARY:Quiz Night
DESCRIPTION:
URL:https://www.littleportlife.co.uk/event/quiz-night-4/
LOCATION:The Crown Inn\, Main Street\, Littleport\, Cambridgeshire\, CB6 1PJ\, United Kingdom
CATEGORIES:Game Events
END:VEVENT
BEGIN:VEVENT
DTSTART;TZID=Europe/London:20151129T203000
DTEND;TZID=Europe/London:20151129T203000
DTSTAMP:20260421T024038
CREATED:20151003T081258Z
LAST-MODIFIED:20151003T082239Z
UID:822-1448829000-1448829000@www.littleportlife.co.uk
SUMMARY:Bondy
DESCRIPTION:
URL:https://www.littleportlife.co.uk/event/bondy-2/
LOCATION:The Crown Inn\, Main Street\, Littleport\, Cambridgeshire\, CB6 1PJ\, United Kingdom
CATEGORIES:Live Music
END:VEVENT
BEGIN:VEVENT
DTSTART;TZID=Europe/London:20151129T190000
DTEND;TZID=Europe/London:20151129T190000
DTSTAMP:20260421T024038
CREATED:20151003T081258Z
LAST-MODIFIED:20151003T083804Z
UID:821-1448823600-1448823600@www.littleportlife.co.uk
SUMMARY:Quiz Night To Raise Funds for Kenya
DESCRIPTION:
URL:https://www.littleportlife.co.uk/event/quiz-night-to-raise-funds-for-kenya/
LOCATION:Littleport Leisure Centre\, Camel Road\, Littleport\, Cambridgeshire\, CB6 1EW\, United Kingdom
CATEGORIES:Game Events
END:VEVENT
BEGIN:VEVENT
DTSTART;TZID=Europe/London:20151129T123000
DTEND;TZID=Europe/London:20151129T123000
DTSTAMP:20260421T024038
CREATED:20151003T081258Z
LAST-MODIFIED:20151003T081258Z
UID:820-1448800200-1448800200@www.littleportlife.co.uk
SUMMARY:Roast Carvery
DESCRIPTION:
URL:https://www.littleportlife.co.uk/event/roast-carvery-7/
LOCATION:Littleport Leisure Centre\, Camel Road\, Littleport\, Cambridgeshire\, CB6 1EW\, United Kingdom
END:VEVENT
BEGIN:VEVENT
DTSTART;TZID=Europe/London:20151129T000000
DTEND;TZID=Europe/London:20151129T000000
DTSTAMP:20260421T024038
CREATED:20151003T081257Z
LAST-MODIFIED:20151003T083606Z
UID:819-1448755200-1448755200@www.littleportlife.co.uk
SUMMARY:Judo Competition
DESCRIPTION:
URL:https://www.littleportlife.co.uk/event/judo-competition/
LOCATION:Littleport Leisure Centre\, Camel Road\, Littleport\, Cambridgeshire\, CB6 1EW\, United Kingdom
CATEGORIES:Sporting Events
END:VEVENT
BEGIN:VEVENT
DTSTART;TZID=Europe/London:20151128T204500
DTEND;TZID=Europe/London:20151128T204500
DTSTAMP:20260421T024038
CREATED:20151003T081257Z
LAST-MODIFIED:20151003T082239Z
UID:817-1448743500-1448743500@www.littleportlife.co.uk
SUMMARY:Olly Murrs Tribute Show and Club Disco
DESCRIPTION:Tickets Only
URL:https://www.littleportlife.co.uk/event/olly-murrs-tribute-show-and-club-disco/
LOCATION:Cambridgeshire
CATEGORIES:Discos,Live Music
END:VEVENT
BEGIN:VEVENT
DTSTART;TZID=Europe/London:20151128T203000
DTEND;TZID=Europe/London:20151128T203000
DTSTAMP:20260421T024038
CREATED:20151003T081257Z
LAST-MODIFIED:20151003T082239Z
UID:818-1448742600-1448742600@www.littleportlife.co.uk
SUMMARY:Martha’s  Wood
DESCRIPTION:
URL:https://www.littleportlife.co.uk/event/marthas-wood/
LOCATION:The Crown Inn\, Main Street\, Littleport\, Cambridgeshire\, CB6 1PJ\, United Kingdom
CATEGORIES:Live Music
END:VEVENT
BEGIN:VEVENT
DTSTART;TZID=Europe/London:20151122T123000
DTEND;TZID=Europe/London:20151122T123000
DTSTAMP:20260421T024038
CREATED:20151003T081257Z
LAST-MODIFIED:20151003T081257Z
UID:816-1448195400-1448195400@www.littleportlife.co.uk
SUMMARY:Roast Carvery
DESCRIPTION:
URL:https://www.littleportlife.co.uk/event/roast-carvery-6/
LOCATION:Littleport Leisure Centre\, Camel Road\, Littleport\, Cambridgeshire\, CB6 1EW\, United Kingdom
END:VEVENT
BEGIN:VEVENT
DTSTART;TZID=Europe/London:20151122T000000
DTEND;TZID=Europe/London:20151122T000000
DTSTAMP:20260421T024038
CREATED:20151003T081257Z
LAST-MODIFIED:20151003T081417Z
UID:815-1448150400-1448150400@www.littleportlife.co.uk
SUMMARY:ECSSC Dog Show
DESCRIPTION:Indoors
URL:https://www.littleportlife.co.uk/event/ecssc-dog-show/
LOCATION:Littleport Leisure Centre\, Camel Road\, Littleport\, Cambridgeshire\, CB6 1EW\, United Kingdom
CATEGORIES:Dog Shows
END:VEVENT
BEGIN:VEVENT
DTSTART;TZID=Europe/London:20151121T204500
DTEND;TZID=Europe/London:20151121T204500
DTSTAMP:20260421T024038
CREATED:20151003T081257Z
LAST-MODIFIED:20151003T082239Z
UID:812-1448138700-1448138700@www.littleportlife.co.uk
SUMMARY:Mark Steel
DESCRIPTION:
URL:https://www.littleportlife.co.uk/event/mark-steel/
LOCATION:Cambridgeshire
CATEGORIES:Live Music
END:VEVENT
BEGIN:VEVENT
DTSTART;TZID=Europe/London:20151121T203000
DTEND;TZID=Europe/London:20151121T203000
DTSTAMP:20260421T024038
CREATED:20151003T081257Z
LAST-MODIFIED:20151003T081257Z
UID:814-1448137800-1448137800@www.littleportlife.co.uk
SUMMARY:Mystery Entertainment
DESCRIPTION:
URL:https://www.littleportlife.co.uk/event/mystery-entertainment/
LOCATION:The Crown Inn\, Main Street\, Littleport\, Cambridgeshire\, CB6 1PJ\, United Kingdom
END:VEVENT
BEGIN:VEVENT
DTSTART;TZID=Europe/London:20151121T000000
DTEND;TZID=Europe/London:20151121T000000
DTSTAMP:20260421T024038
CREATED:20151003T081257Z
LAST-MODIFIED:20151003T083606Z
UID:813-1448064000-1448064000@www.littleportlife.co.uk
SUMMARY:Archery Competition
DESCRIPTION:
URL:https://www.littleportlife.co.uk/event/archery-competition/
LOCATION:Littleport Leisure Centre\, Camel Road\, Littleport\, Cambridgeshire\, CB6 1EW\, United Kingdom
CATEGORIES:Sporting Events
END:VEVENT
BEGIN:VEVENT
DTSTART;TZID=Europe/London:20151120T193000
DTEND;TZID=Europe/London:20151120T193000
DTSTAMP:20260421T024038
CREATED:20151003T081257Z
LAST-MODIFIED:20151003T083804Z
UID:811-1448047800-1448047800@www.littleportlife.co.uk
SUMMARY:Texas Hold ‘em Poker Tournament
DESCRIPTION:
URL:https://www.littleportlife.co.uk/event/texas-hold-em-poker-tournament-3/
LOCATION:Littleport Leisure Centre\, Camel Road\, Littleport\, Cambridgeshire\, CB6 1EW\, United Kingdom
CATEGORIES:Game Events
END:VEVENT
BEGIN:VEVENT
DTSTART;TZID=Europe/London:20151115T090000
DTEND;TZID=Europe/London:20151115T090000
DTSTAMP:20260421T024038
CREATED:20151003T081257Z
LAST-MODIFIED:20151003T081257Z
UID:810-1447578000-1447578000@www.littleportlife.co.uk
SUMMARY:Indoor Car Boot and Crafts Sale
DESCRIPTION:
URL:https://www.littleportlife.co.uk/event/indoor-car-boot-and-crafts-sale/
LOCATION:Littleport Leisure Centre\, Camel Road\, Littleport\, Cambridgeshire\, CB6 1EW\, United Kingdom
END:VEVENT
BEGIN:VEVENT
DTSTART;TZID=Europe/London:20151114T204500
DTEND;TZID=Europe/London:20151114T204500
DTSTAMP:20260421T024038
CREATED:20151003T081257Z
LAST-MODIFIED:20151003T082239Z
UID:807-1447533900-1447533900@www.littleportlife.co.uk
SUMMARY:Get Back (Charity Night)
DESCRIPTION:Bob Garwood’s Breast Cancer Charity Event
URL:https://www.littleportlife.co.uk/event/get-back-charity-night/
LOCATION:Cambridgeshire
CATEGORIES:Live Music
END:VEVENT
BEGIN:VEVENT
DTSTART;TZID=Europe/London:20151114T203000
DTEND;TZID=Europe/London:20151114T203000
DTSTAMP:20260421T024038
CREATED:20151003T081257Z
LAST-MODIFIED:20151003T081257Z
UID:809-1447533000-1447533000@www.littleportlife.co.uk
SUMMARY:Ziggy
DESCRIPTION:
URL:https://www.littleportlife.co.uk/event/ziggy/
LOCATION:The Crown Inn\, Main Street\, Littleport\, Cambridgeshire\, CB6 1PJ\, United Kingdom
END:VEVENT
BEGIN:VEVENT
DTSTART;TZID=Europe/London:20151114T200000
DTEND;TZID=Europe/London:20151114T200000
DTSTAMP:20260421T024038
CREATED:20151003T081257Z
LAST-MODIFIED:20151003T082239Z
UID:808-1447531200-1447531200@www.littleportlife.co.uk
SUMMARY:Live Entertainment with ‘G’
DESCRIPTION:
URL:https://www.littleportlife.co.uk/event/live-entertainment-with-g/
LOCATION:Littleport Leisure Centre\, Camel Road\, Littleport\, Cambridgeshire\, CB6 1EW\, United Kingdom
CATEGORIES:Live Music
END:VEVENT
BEGIN:VEVENT
DTSTART;TZID=Europe/London:20151110T191500
DTEND;TZID=Europe/London:20151110T191500
DTSTAMP:20260421T024038
CREATED:20151003T081257Z
LAST-MODIFIED:20151003T081257Z
UID:806-1447182900-1447182900@www.littleportlife.co.uk
SUMMARY:AGM Cheese Tasting And Savoury Night
DESCRIPTION:Competition. Two Cheese Scones
URL:https://www.littleportlife.co.uk/event/agm-cheese-tasting-and-savoury-night/
LOCATION:Cambridgeshire
END:VEVENT
BEGIN:VEVENT
DTSTART;TZID=Europe/London:20151108T190000
DTEND;TZID=Europe/London:20151108T190000
DTSTAMP:20260421T024038
CREATED:20151003T081257Z
LAST-MODIFIED:20151003T083606Z
UID:805-1447009200-1447009200@www.littleportlife.co.uk
SUMMARY:Quiz Night In Aid of Littleport Judo Club
DESCRIPTION:
URL:https://www.littleportlife.co.uk/event/quiz-night-in-aid-of-littleport-judo-club/
LOCATION:Cambridgeshire
CATEGORIES:Sporting Events
END:VEVENT
BEGIN:VEVENT
DTSTART;TZID=Europe/London:20151108T123000
DTEND;TZID=Europe/London:20151108T123000
DTSTAMP:20260421T024038
CREATED:20151003T081257Z
LAST-MODIFIED:20151003T081257Z
UID:804-1446985800-1446985800@www.littleportlife.co.uk
SUMMARY:Roast Carvery
DESCRIPTION:
URL:https://www.littleportlife.co.uk/event/roast-carvery-5/
LOCATION:Littleport Leisure Centre\, Camel Road\, Littleport\, Cambridgeshire\, CB6 1EW\, United Kingdom
END:VEVENT
BEGIN:VEVENT
DTSTART;TZID=Europe/London:20151108T000000
DTEND;TZID=Europe/London:20151108T000000
DTSTAMP:20260421T024038
CREATED:20151003T081257Z
LAST-MODIFIED:20151003T081416Z
UID:803-1446940800-1446940800@www.littleportlife.co.uk
SUMMARY:EBCA  Dog Show
DESCRIPTION:Indoors
URL:https://www.littleportlife.co.uk/event/ebca-dog-show/
LOCATION:Littleport Leisure Centre\, Camel Road\, Littleport\, Cambridgeshire\, CB6 1EW\, United Kingdom
CATEGORIES:Dog Shows
END:VEVENT
BEGIN:VEVENT
DTSTART;TZID=Europe/London:20151107T204500
DTEND;TZID=Europe/London:20151107T204500
DTSTAMP:20260421T024038
CREATED:20151003T081257Z
LAST-MODIFIED:20151003T081257Z
UID:802-1446929100-1446929100@www.littleportlife.co.uk
SUMMARY:Rocking Revival
DESCRIPTION:
URL:https://www.littleportlife.co.uk/event/rocking-revival/
LOCATION:Cambridgeshire
END:VEVENT
BEGIN:VEVENT
DTSTART;TZID=Europe/London:20151106T230000
DTEND;TZID=Europe/London:20151106T230000
DTSTAMP:20260421T024038
CREATED:20151003T081257Z
LAST-MODIFIED:20151003T082239Z
UID:801-1446850800-1446850800@www.littleportlife.co.uk
SUMMARY:6th Anniversary
DESCRIPTION:The Last Train
URL:https://www.littleportlife.co.uk/event/6th-anniversary/
LOCATION:The Crown Inn\, Main Street\, Littleport\, Cambridgeshire\, CB6 1PJ\, United Kingdom
CATEGORIES:Live Music
END:VEVENT
BEGIN:VEVENT
DTSTART;TZID=Europe/London:20151103T190000
DTEND;TZID=Europe/London:20151103T190000
DTSTAMP:20260421T024038
CREATED:20151003T081256Z
LAST-MODIFIED:20151003T083805Z
UID:800-1446577200-1446577200@www.littleportlife.co.uk
SUMMARY:Quiz Night
DESCRIPTION:
URL:https://www.littleportlife.co.uk/event/quiz-night-3/
LOCATION:The Crown Inn\, Main Street\, Littleport\, Cambridgeshire\, CB6 1PJ\, United Kingdom
CATEGORIES:Game Events
END:VEVENT
BEGIN:VEVENT
DTSTART;TZID=Europe/London:20151102T090000
DTEND;TZID=Europe/London:20151102T090000
DTSTAMP:20260421T024038
CREATED:20151003T081256Z
LAST-MODIFIED:20151003T083606Z
UID:799-1446454800-1446454800@www.littleportlife.co.uk
SUMMARY:Over 60’s Bowls Tournament
DESCRIPTION:
URL:https://www.littleportlife.co.uk/event/over-60s-bowls-tournament-3/
LOCATION:Littleport Leisure Centre\, Camel Road\, Littleport\, Cambridgeshire\, CB6 1EW\, United Kingdom
CATEGORIES:Sporting Events
END:VEVENT
BEGIN:VEVENT
DTSTART;TZID=Europe/London:20151031T204500
DTEND;TZID=Europe/London:20151031T204500
DTSTAMP:20260421T024038
CREATED:20151003T081256Z
LAST-MODIFIED:20151003T082240Z
UID:797-1446324300-1446324300@www.littleportlife.co.uk
SUMMARY:The Strollers
DESCRIPTION:
URL:https://www.littleportlife.co.uk/event/the-strollers/
LOCATION:Cambridgeshire
CATEGORIES:Live Music
END:VEVENT
BEGIN:VEVENT
DTSTART;TZID=Europe/London:20151031T180000
DTEND;TZID=Europe/London:20151031T180000
DTSTAMP:20260421T024038
CREATED:20151003T081256Z
LAST-MODIFIED:20151003T082010Z
UID:798-1446314400-1446314400@www.littleportlife.co.uk
SUMMARY:Family Halloween Disco
DESCRIPTION:
URL:https://www.littleportlife.co.uk/event/family-halloween-disco/
LOCATION:Littleport Leisure Centre\, Camel Road\, Littleport\, Cambridgeshire\, CB6 1EW\, United Kingdom
CATEGORIES:Discos
END:VEVENT
BEGIN:VEVENT
DTSTART;TZID=Europe/London:20151030T203000
DTEND;TZID=Europe/London:20151030T203000
DTSTAMP:20260421T024038
CREATED:20151003T081256Z
LAST-MODIFIED:20151003T082240Z
UID:796-1446237000-1446237000@www.littleportlife.co.uk
SUMMARY:Big Cheese
DESCRIPTION:
URL:https://www.littleportlife.co.uk/event/big-cheese/
LOCATION:The Crown Inn\, Main Street\, Littleport\, Cambridgeshire\, CB6 1PJ\, United Kingdom
CATEGORIES:Live Music
END:VEVENT
BEGIN:VEVENT
DTSTART;TZID=Europe/London:20151025T193000
DTEND;TZID=Europe/London:20151025T193000
DTSTAMP:20260421T024038
CREATED:20151003T081256Z
LAST-MODIFIED:20151003T083805Z
UID:793-1445801400-1445801400@www.littleportlife.co.uk
SUMMARY:Barry’s Charity Bingo
DESCRIPTION:
URL:https://www.littleportlife.co.uk/event/barrys-charity-bingo/
LOCATION:Cambridgeshire
CATEGORIES:Game Events
END:VEVENT
BEGIN:VEVENT
DTSTART;TZID=Europe/London:20151025T150000
DTEND;TZID=Europe/London:20151025T150000
DTSTAMP:20260421T024038
CREATED:20151003T081256Z
LAST-MODIFIED:20151003T082240Z
UID:795-1445785200-1445785200@www.littleportlife.co.uk
SUMMARY:Greg McDonald
DESCRIPTION:
URL:https://www.littleportlife.co.uk/event/greg-mcdonald/
LOCATION:The Crown Inn\, Main Street\, Littleport\, Cambridgeshire\, CB6 1PJ\, United Kingdom
CATEGORIES:Live Music
END:VEVENT
END:VCALENDAR