BEGIN:VCALENDAR
VERSION:2.0
PRODID:-//Littleport Life - ECPv6.7.1//NONSGML v1.0//EN
CALSCALE:GREGORIAN
METHOD:PUBLISH
X-WR-CALNAME:Littleport Life
X-ORIGINAL-URL:https://www.littleportlife.co.uk
X-WR-CALDESC:Events for Littleport Life
REFRESH-INTERVAL;VALUE=DURATION:PT1H
X-Robots-Tag:noindex
X-PUBLISHED-TTL:PT1H
BEGIN:VTIMEZONE
TZID:Europe/London
BEGIN:DAYLIGHT
TZOFFSETFROM:+0000
TZOFFSETTO:+0100
TZNAME:BST
DTSTART:20150329T010000
END:DAYLIGHT
BEGIN:STANDARD
TZOFFSETFROM:+0100
TZOFFSETTO:+0000
TZNAME:GMT
DTSTART:20151025T010000
END:STANDARD
END:VTIMEZONE
BEGIN:VEVENT
DTSTART;TZID=Europe/London:20151025T123000
DTEND;TZID=Europe/London:20151025T123000
DTSTAMP:20260421T044338
CREATED:20151003T081256Z
LAST-MODIFIED:20151003T081256Z
UID:794-1445776200-1445776200@www.littleportlife.co.uk
SUMMARY:Roast Carvery
DESCRIPTION:
URL:https://www.littleportlife.co.uk/event/roast-carvery-4/
LOCATION:Littleport Leisure Centre\, Camel Road\, Littleport\, Cambridgeshire\, CB6 1EW\, United Kingdom
END:VEVENT
BEGIN:VEVENT
DTSTART;TZID=Europe/London:20151024T203000
DTEND;TZID=Europe/London:20151024T203000
DTSTAMP:20260421T044338
CREATED:20151003T081256Z
LAST-MODIFIED:20151003T082240Z
UID:792-1445718600-1445718600@www.littleportlife.co.uk
SUMMARY:Regardless
DESCRIPTION:
URL:https://www.littleportlife.co.uk/event/regardless/
LOCATION:The Crown Inn\, Main Street\, Littleport\, Cambridgeshire\, CB6 1PJ\, United Kingdom
CATEGORIES:Live Music
END:VEVENT
BEGIN:VEVENT
DTSTART;TZID=Europe/London:20151024T200000
DTEND;TZID=Europe/London:20151024T200000
DTSTAMP:20260421T044338
CREATED:20151003T081256Z
LAST-MODIFIED:20151003T082240Z
UID:791-1445716800-1445716800@www.littleportlife.co.uk
SUMMARY:Soul Night with Live Music from Al Sharpe
DESCRIPTION:
URL:https://www.littleportlife.co.uk/event/soul-night-with-live-music-from-al-sharpe/
LOCATION:Littleport Leisure Centre\, Camel Road\, Littleport\, Cambridgeshire\, CB6 1EW\, United Kingdom
CATEGORIES:Live Music
END:VEVENT
BEGIN:VEVENT
DTSTART;TZID=Europe/London:20151024T190000
DTEND;TZID=Europe/London:20151024T190000
DTSTAMP:20260421T044338
CREATED:20151003T081256Z
LAST-MODIFIED:20151003T081256Z
UID:790-1445713200-1445713200@www.littleportlife.co.uk
SUMMARY:Barry's Charity Night for E A C H  with
DESCRIPTION:BBQ – £10.00
URL:https://www.littleportlife.co.uk/event/barrys-charity-night-for-e-a-c-h-with/
LOCATION:Cambridgeshire
END:VEVENT
BEGIN:VEVENT
DTSTART;TZID=Europe/London:20151023T193000
DTEND;TZID=Europe/London:20151023T193000
DTSTAMP:20260421T044338
CREATED:20151003T081256Z
LAST-MODIFIED:20151003T083805Z
UID:789-1445628600-1445628600@www.littleportlife.co.uk
SUMMARY:Texas Hold ‘em Poker Tournament
DESCRIPTION:
URL:https://www.littleportlife.co.uk/event/texas-hold-em-poker-tournament-2/
LOCATION:Littleport Leisure Centre\, Camel Road\, Littleport\, Cambridgeshire\, CB6 1EW\, United Kingdom
CATEGORIES:Game Events
END:VEVENT
BEGIN:VEVENT
DTSTART;TZID=Europe/London:20151021T183000
DTEND;TZID=Europe/London:20151021T183000
DTSTAMP:20260421T044338
CREATED:20151003T081256Z
LAST-MODIFIED:20151003T083805Z
UID:788-1445452200-1445452200@www.littleportlife.co.uk
SUMMARY:Prize Bingo
DESCRIPTION:
URL:https://www.littleportlife.co.uk/event/prize-bingo-3/
LOCATION:Littleport Leisure Centre\, Camel Road\, Littleport\, Cambridgeshire\, CB6 1EW\, United Kingdom
CATEGORIES:Game Events
END:VEVENT
BEGIN:VEVENT
DTSTART;TZID=Europe/London:20151018T190000
DTEND;TZID=Europe/London:20151018T190000
DTSTAMP:20260421T044338
CREATED:20151003T081256Z
LAST-MODIFIED:20151003T083805Z
UID:787-1445194800-1445194800@www.littleportlife.co.uk
SUMMARY:Quiz Night In Aid of Littleport Town Cricket
DESCRIPTION:
URL:https://www.littleportlife.co.uk/event/quiz-night-in-aid-of-littleport-town-cricket/
LOCATION:Littleport Leisure Centre\, Camel Road\, Littleport\, Cambridgeshire\, CB6 1EW\, United Kingdom
CATEGORIES:Game Events
END:VEVENT
BEGIN:VEVENT
DTSTART;TZID=Europe/London:20151018T000000
DTEND;TZID=Europe/London:20151018T000000
DTSTAMP:20260421T044338
CREATED:20151003T081256Z
LAST-MODIFIED:20151003T081416Z
UID:786-1445126400-1445126400@www.littleportlife.co.uk
SUMMARY:TA Agility Dog Show
DESCRIPTION:Outdoors
URL:https://www.littleportlife.co.uk/event/ta-agility-dog-show-3/
LOCATION:Littleport Leisure Centre\, Camel Road\, Littleport\, Cambridgeshire\, CB6 1EW\, United Kingdom
CATEGORIES:Dog Shows
END:VEVENT
BEGIN:VEVENT
DTSTART;TZID=Europe/London:20151017T204500
DTEND;TZID=Europe/London:20151017T204500
DTSTAMP:20260421T044338
CREATED:20151003T081256Z
LAST-MODIFIED:20151003T082240Z
UID:784-1445114700-1445114700@www.littleportlife.co.uk
SUMMARY:Summerland's
DESCRIPTION:
URL:https://www.littleportlife.co.uk/event/summerlands/
LOCATION:Cambridgeshire
CATEGORIES:Live Music
END:VEVENT
BEGIN:VEVENT
DTSTART;TZID=Europe/London:20151017T193000
DTEND;TZID=Europe/London:20151017T193000
DTSTAMP:20260421T044338
CREATED:20151003T081256Z
LAST-MODIFIED:20151003T081256Z
UID:785-1445110200-1445110200@www.littleportlife.co.uk
SUMMARY:Lecture Evening with Trevor Marriott
DESCRIPTION:
URL:https://www.littleportlife.co.uk/event/lecture-evening-with-trevor-marriott/
LOCATION:Littleport Leisure Centre\, Camel Road\, Littleport\, Cambridgeshire\, CB6 1EW\, United Kingdom
END:VEVENT
BEGIN:VEVENT
DTSTART;TZID=Europe/London:20151016T203000
DTEND;TZID=Europe/London:20151016T203000
DTSTAMP:20260421T044338
CREATED:20151003T081256Z
LAST-MODIFIED:20151003T082240Z
UID:783-1445027400-1445027400@www.littleportlife.co.uk
SUMMARY:Steve Pyevarotti
DESCRIPTION:
URL:https://www.littleportlife.co.uk/event/steve-pyevarotti/
LOCATION:The Crown Inn\, Main Street\, Littleport\, Cambridgeshire\, CB6 1PJ\, United Kingdom
CATEGORIES:Live Music
END:VEVENT
BEGIN:VEVENT
DTSTART;TZID=Europe/London:20151013T191500
DTEND;TZID=Europe/London:20151013T191500
DTSTAMP:20260421T044338
CREATED:20151003T081256Z
LAST-MODIFIED:20151003T081256Z
UID:782-1444763700-1444763700@www.littleportlife.co.uk
SUMMARY:Recycling
DESCRIPTION:Speaker Nick King.  Competition. New Use for Recycled Tin Cans
URL:https://www.littleportlife.co.uk/event/recycling/
LOCATION:Cambridgeshire
END:VEVENT
BEGIN:VEVENT
DTSTART;TZID=Europe/London:20151012T090000
DTEND;TZID=Europe/London:20151012T090000
DTSTAMP:20260421T044338
CREATED:20151003T081256Z
LAST-MODIFIED:20151003T081256Z
UID:781-1444640400-1444640400@www.littleportlife.co.uk
SUMMARY:Over 60’s Bowls Tournament
DESCRIPTION:
URL:https://www.littleportlife.co.uk/event/over-60s-bowls-tournament-2/
LOCATION:Littleport Leisure Centre\, Camel Road\, Littleport\, Cambridgeshire\, CB6 1EW\, United Kingdom
END:VEVENT
BEGIN:VEVENT
DTSTART;TZID=Europe/London:20151011T123000
DTEND;TZID=Europe/London:20151011T123000
DTSTAMP:20260421T044338
CREATED:20151003T081256Z
LAST-MODIFIED:20151003T081256Z
UID:780-1444566600-1444566600@www.littleportlife.co.uk
SUMMARY:Roast Carvery
DESCRIPTION:
URL:https://www.littleportlife.co.uk/event/roast-carvery-3/
LOCATION:Littleport Leisure Centre\, Camel Road\, Littleport\, Cambridgeshire\, CB6 1EW\, United Kingdom
END:VEVENT
BEGIN:VEVENT
DTSTART;TZID=Europe/London:20151010T204500
DTEND;TZID=Europe/London:20151010T204500
DTSTAMP:20260421T044338
CREATED:20151003T081256Z
LAST-MODIFIED:20151003T082240Z
UID:777-1444509900-1444509900@www.littleportlife.co.uk
SUMMARY:Kenny Rish
DESCRIPTION:
URL:https://www.littleportlife.co.uk/event/kenny-rish/
LOCATION:Cambridgeshire
CATEGORIES:Live Music
END:VEVENT
BEGIN:VEVENT
DTSTART;TZID=Europe/London:20151010T203000
DTEND;TZID=Europe/London:20151010T203000
DTSTAMP:20260421T044338
CREATED:20151003T081255Z
LAST-MODIFIED:20151003T082240Z
UID:779-1444509000-1444509000@www.littleportlife.co.uk
SUMMARY:Bondy
DESCRIPTION:
URL:https://www.littleportlife.co.uk/event/bondy/
LOCATION:The Crown Inn\, Main Street\, Littleport\, Cambridgeshire\, CB6 1PJ\, United Kingdom
CATEGORIES:Live Music
END:VEVENT
BEGIN:VEVENT
DTSTART;TZID=Europe/London:20151010T190000
DTEND;TZID=Europe/London:20151010T190000
DTSTAMP:20260421T044338
CREATED:20151003T081255Z
LAST-MODIFIED:20151003T081255Z
UID:778-1444503600-1444503600@www.littleportlife.co.uk
SUMMARY:Italian Food Night
DESCRIPTION:
URL:https://www.littleportlife.co.uk/event/italian-food-night/
LOCATION:Littleport Leisure Centre\, Camel Road\, Littleport\, Cambridgeshire\, CB6 1EW\, United Kingdom
END:VEVENT
BEGIN:VEVENT
DTSTART;TZID=Europe/London:20151006T190000
DTEND;TZID=Europe/London:20151006T190000
DTSTAMP:20260421T044338
CREATED:20151003T081255Z
LAST-MODIFIED:20151003T083805Z
UID:776-1444158000-1444158000@www.littleportlife.co.uk
SUMMARY:Quiz Night
DESCRIPTION:
URL:https://www.littleportlife.co.uk/event/quiz-night-2/
LOCATION:The Crown Inn\, Main Street\, Littleport\, Cambridgeshire\, CB6 1PJ\, United Kingdom
CATEGORIES:Game Events
END:VEVENT
BEGIN:VEVENT
DTSTART;VALUE=DATE:20151004
DTEND;VALUE=DATE:20151005
DTSTAMP:20260421T044338
CREATED:20151003T081255Z
LAST-MODIFIED:20151003T083257Z
UID:775-1443916800-1444003199@www.littleportlife.co.uk
SUMMARY:EACA Dog Show
DESCRIPTION:Indoors
URL:https://www.littleportlife.co.uk/event/eaca-dog-show/
LOCATION:Littleport Leisure Centre\, Camel Road\, Littleport\, Cambridgeshire\, CB6 1EW\, United Kingdom
CATEGORIES:Dog Shows
END:VEVENT
BEGIN:VEVENT
DTSTART;TZID=Europe/London:20151003T204500
DTEND;TZID=Europe/London:20151003T204500
DTSTAMP:20260421T044338
CREATED:20151003T081255Z
LAST-MODIFIED:20151003T082240Z
UID:772-1443905100-1443905100@www.littleportlife.co.uk
SUMMARY:Elvis Presley Cabaret and Tribute Show
DESCRIPTION:Tickets Only
URL:https://www.littleportlife.co.uk/event/elvis-presley-cabaret-and-tribute-show/
LOCATION:Cambridgeshire
CATEGORIES:Live Music
END:VEVENT
BEGIN:VEVENT
DTSTART;TZID=Europe/London:20151003T203000
DTEND;TZID=Europe/London:20151003T203000
DTSTAMP:20260421T044338
CREATED:20151003T081255Z
LAST-MODIFIED:20151003T082240Z
UID:774-1443904200-1443904200@www.littleportlife.co.uk
SUMMARY:Thomas Bainbridge
DESCRIPTION:
URL:https://www.littleportlife.co.uk/event/thomas-bainbridge/
LOCATION:The Crown Inn\, Main Street\, Littleport\, Cambridgeshire\, CB6 1PJ\, United Kingdom
CATEGORIES:Live Music
END:VEVENT
BEGIN:VEVENT
DTSTART;TZID=Europe/London:20151003T200000
DTEND;TZID=Europe/London:20151003T200000
DTSTAMP:20260421T044338
CREATED:20151003T081255Z
LAST-MODIFIED:20151003T083606Z
UID:773-1443902400-1443902400@www.littleportlife.co.uk
SUMMARY:Non Darts Players Darts Tournament
DESCRIPTION:
URL:https://www.littleportlife.co.uk/event/non-darts-players-darts-tournament/
LOCATION:Littleport Leisure Centre\, Camel Road\, Littleport\, Cambridgeshire\, CB6 1EW\, United Kingdom
CATEGORIES:Sporting Events
END:VEVENT
BEGIN:VEVENT
DTSTART;TZID=Europe/London:20150927T150000
DTEND;TZID=Europe/London:20150927T150000
DTSTAMP:20260421T044338
CREATED:20151003T081255Z
LAST-MODIFIED:20151003T082240Z
UID:771-1443366000-1443366000@www.littleportlife.co.uk
SUMMARY:Dale Taylor
DESCRIPTION:
URL:https://www.littleportlife.co.uk/event/dale-taylor/
LOCATION:The Crown Inn\, Main Street\, Littleport\, Cambridgeshire\, CB6 1PJ\, United Kingdom
CATEGORIES:Live Music
END:VEVENT
BEGIN:VEVENT
DTSTART;TZID=Europe/London:20150927T123000
DTEND;TZID=Europe/London:20150927T123000
DTSTAMP:20260421T044338
CREATED:20151003T081255Z
LAST-MODIFIED:20151003T081255Z
UID:770-1443357000-1443357000@www.littleportlife.co.uk
SUMMARY:Roast Carvery
DESCRIPTION:
URL:https://www.littleportlife.co.uk/event/roast-carvery-2/
LOCATION:Littleport Leisure Centre\, Camel Road\, Littleport\, Cambridgeshire\, CB6 1EW\, United Kingdom
END:VEVENT
BEGIN:VEVENT
DTSTART;TZID=Europe/London:20150926T204500
DTEND;TZID=Europe/London:20150926T204500
DTSTAMP:20260421T044338
CREATED:20151003T081255Z
LAST-MODIFIED:20151003T082240Z
UID:767-1443300300-1443300300@www.littleportlife.co.uk
SUMMARY:Malcolm Sargeant Country Music Night
DESCRIPTION:
URL:https://www.littleportlife.co.uk/event/malcolm-sargeant-country-music-night/
LOCATION:Cambridgeshire
CATEGORIES:Live Music
END:VEVENT
BEGIN:VEVENT
DTSTART;TZID=Europe/London:20150926T203000
DTEND;TZID=Europe/London:20150926T203000
DTSTAMP:20260421T044338
CREATED:20151003T081255Z
LAST-MODIFIED:20151003T082241Z
UID:768-1443299400-1443299400@www.littleportlife.co.uk
SUMMARY:Live Cabaret with Johnny Dee
DESCRIPTION:
URL:https://www.littleportlife.co.uk/event/live-cabaret-with-johnny-dee/
LOCATION:Littleport Leisure Centre\, Camel Road\, Littleport\, Cambridgeshire\, CB6 1EW\, United Kingdom
CATEGORIES:Live Music
END:VEVENT
BEGIN:VEVENT
DTSTART;TZID=Europe/London:20150926T203000
DTEND;TZID=Europe/London:20150926T203000
DTSTAMP:20260421T044338
CREATED:20151003T081255Z
LAST-MODIFIED:20151003T081255Z
UID:769-1443299400-1443299400@www.littleportlife.co.uk
SUMMARY:Foam Party
DESCRIPTION:
URL:https://www.littleportlife.co.uk/event/foam-party/
LOCATION:The Crown Inn\, Main Street\, Littleport\, Cambridgeshire\, CB6 1PJ\, United Kingdom
END:VEVENT
BEGIN:VEVENT
DTSTART;TZID=Europe/London:20150926T190000
DTEND;TZID=Europe/London:20150926T190000
DTSTAMP:20260421T044338
CREATED:20151003T081255Z
LAST-MODIFIED:20151003T083805Z
UID:766-1443294000-1443294000@www.littleportlife.co.uk
SUMMARY:Bingo
DESCRIPTION:
URL:https://www.littleportlife.co.uk/event/bingo/
LOCATION:Cambridgeshire
CATEGORIES:Game Events
END:VEVENT
BEGIN:VEVENT
DTSTART;TZID=Europe/London:20150925T190000
DTEND;TZID=Europe/London:20150925T190000
DTSTAMP:20260421T044338
CREATED:20151003T081255Z
LAST-MODIFIED:20151003T083805Z
UID:765-1443207600-1443207600@www.littleportlife.co.uk
SUMMARY:Texas Hold ‘em Poker Tournament
DESCRIPTION:
URL:https://www.littleportlife.co.uk/event/texas-hold-em-poker-tournament/
LOCATION:Littleport Leisure Centre\, Camel Road\, Littleport\, Cambridgeshire\, CB6 1EW\, United Kingdom
CATEGORIES:Game Events
END:VEVENT
BEGIN:VEVENT
DTSTART;TZID=Europe/London:20150923T183000
DTEND;TZID=Europe/London:20150923T183000
DTSTAMP:20260421T044338
CREATED:20151003T081255Z
LAST-MODIFIED:20151003T083805Z
UID:764-1443033000-1443033000@www.littleportlife.co.uk
SUMMARY:Prize Bingo
DESCRIPTION:
URL:https://www.littleportlife.co.uk/event/prize-bingo-2/
LOCATION:Littleport Leisure Centre\, Camel Road\, Littleport\, Cambridgeshire\, CB6 1EW\, United Kingdom
CATEGORIES:Game Events
END:VEVENT
END:VCALENDAR