BEGIN:VCALENDAR
VERSION:2.0
PRODID:-//Littleport Life - ECPv6.7.1//NONSGML v1.0//EN
CALSCALE:GREGORIAN
METHOD:PUBLISH
X-WR-CALNAME:Littleport Life
X-ORIGINAL-URL:https://www.littleportlife.co.uk
X-WR-CALDESC:Events for Littleport Life
REFRESH-INTERVAL;VALUE=DURATION:PT1H
X-Robots-Tag:noindex
X-PUBLISHED-TTL:PT1H
BEGIN:VTIMEZONE
TZID:Europe/London
BEGIN:DAYLIGHT
TZOFFSETFROM:+0000
TZOFFSETTO:+0100
TZNAME:BST
DTSTART:20150329T010000
END:DAYLIGHT
BEGIN:STANDARD
TZOFFSETFROM:+0100
TZOFFSETTO:+0000
TZNAME:GMT
DTSTART:20151025T010000
END:STANDARD
END:VTIMEZONE
BEGIN:VEVENT
DTSTART;TZID=Europe/London:20151003T203000
DTEND;TZID=Europe/London:20151003T203000
DTSTAMP:20260421T063157
CREATED:20151003T081255Z
LAST-MODIFIED:20151003T082240Z
UID:774-1443904200-1443904200@www.littleportlife.co.uk
SUMMARY:Thomas Bainbridge
DESCRIPTION:
URL:https://www.littleportlife.co.uk/event/thomas-bainbridge/
LOCATION:The Crown Inn\, Main Street\, Littleport\, Cambridgeshire\, CB6 1PJ\, United Kingdom
CATEGORIES:Live Music
END:VEVENT
BEGIN:VEVENT
DTSTART;TZID=Europe/London:20151003T200000
DTEND;TZID=Europe/London:20151003T200000
DTSTAMP:20260421T063157
CREATED:20151003T081255Z
LAST-MODIFIED:20151003T083606Z
UID:773-1443902400-1443902400@www.littleportlife.co.uk
SUMMARY:Non Darts Players Darts Tournament
DESCRIPTION:
URL:https://www.littleportlife.co.uk/event/non-darts-players-darts-tournament/
LOCATION:Littleport Leisure Centre\, Camel Road\, Littleport\, Cambridgeshire\, CB6 1EW\, United Kingdom
CATEGORIES:Sporting Events
END:VEVENT
BEGIN:VEVENT
DTSTART;TZID=Europe/London:20150927T150000
DTEND;TZID=Europe/London:20150927T150000
DTSTAMP:20260421T063157
CREATED:20151003T081255Z
LAST-MODIFIED:20151003T082240Z
UID:771-1443366000-1443366000@www.littleportlife.co.uk
SUMMARY:Dale Taylor
DESCRIPTION:
URL:https://www.littleportlife.co.uk/event/dale-taylor/
LOCATION:The Crown Inn\, Main Street\, Littleport\, Cambridgeshire\, CB6 1PJ\, United Kingdom
CATEGORIES:Live Music
END:VEVENT
BEGIN:VEVENT
DTSTART;TZID=Europe/London:20150927T123000
DTEND;TZID=Europe/London:20150927T123000
DTSTAMP:20260421T063157
CREATED:20151003T081255Z
LAST-MODIFIED:20151003T081255Z
UID:770-1443357000-1443357000@www.littleportlife.co.uk
SUMMARY:Roast Carvery
DESCRIPTION:
URL:https://www.littleportlife.co.uk/event/roast-carvery-2/
LOCATION:Littleport Leisure Centre\, Camel Road\, Littleport\, Cambridgeshire\, CB6 1EW\, United Kingdom
END:VEVENT
BEGIN:VEVENT
DTSTART;TZID=Europe/London:20150926T204500
DTEND;TZID=Europe/London:20150926T204500
DTSTAMP:20260421T063157
CREATED:20151003T081255Z
LAST-MODIFIED:20151003T082240Z
UID:767-1443300300-1443300300@www.littleportlife.co.uk
SUMMARY:Malcolm Sargeant Country Music Night
DESCRIPTION:
URL:https://www.littleportlife.co.uk/event/malcolm-sargeant-country-music-night/
LOCATION:Cambridgeshire
CATEGORIES:Live Music
END:VEVENT
BEGIN:VEVENT
DTSTART;TZID=Europe/London:20150926T203000
DTEND;TZID=Europe/London:20150926T203000
DTSTAMP:20260421T063157
CREATED:20151003T081255Z
LAST-MODIFIED:20151003T082241Z
UID:768-1443299400-1443299400@www.littleportlife.co.uk
SUMMARY:Live Cabaret with Johnny Dee
DESCRIPTION:
URL:https://www.littleportlife.co.uk/event/live-cabaret-with-johnny-dee/
LOCATION:Littleport Leisure Centre\, Camel Road\, Littleport\, Cambridgeshire\, CB6 1EW\, United Kingdom
CATEGORIES:Live Music
END:VEVENT
BEGIN:VEVENT
DTSTART;TZID=Europe/London:20150926T203000
DTEND;TZID=Europe/London:20150926T203000
DTSTAMP:20260421T063157
CREATED:20151003T081255Z
LAST-MODIFIED:20151003T081255Z
UID:769-1443299400-1443299400@www.littleportlife.co.uk
SUMMARY:Foam Party
DESCRIPTION:
URL:https://www.littleportlife.co.uk/event/foam-party/
LOCATION:The Crown Inn\, Main Street\, Littleport\, Cambridgeshire\, CB6 1PJ\, United Kingdom
END:VEVENT
BEGIN:VEVENT
DTSTART;TZID=Europe/London:20150926T190000
DTEND;TZID=Europe/London:20150926T190000
DTSTAMP:20260421T063157
CREATED:20151003T081255Z
LAST-MODIFIED:20151003T083805Z
UID:766-1443294000-1443294000@www.littleportlife.co.uk
SUMMARY:Bingo
DESCRIPTION:
URL:https://www.littleportlife.co.uk/event/bingo/
LOCATION:Cambridgeshire
CATEGORIES:Game Events
END:VEVENT
BEGIN:VEVENT
DTSTART;TZID=Europe/London:20150925T190000
DTEND;TZID=Europe/London:20150925T190000
DTSTAMP:20260421T063157
CREATED:20151003T081255Z
LAST-MODIFIED:20151003T083805Z
UID:765-1443207600-1443207600@www.littleportlife.co.uk
SUMMARY:Texas Hold ‘em Poker Tournament
DESCRIPTION:
URL:https://www.littleportlife.co.uk/event/texas-hold-em-poker-tournament/
LOCATION:Littleport Leisure Centre\, Camel Road\, Littleport\, Cambridgeshire\, CB6 1EW\, United Kingdom
CATEGORIES:Game Events
END:VEVENT
BEGIN:VEVENT
DTSTART;TZID=Europe/London:20150923T183000
DTEND;TZID=Europe/London:20150923T183000
DTSTAMP:20260421T063157
CREATED:20151003T081255Z
LAST-MODIFIED:20151003T083805Z
UID:764-1443033000-1443033000@www.littleportlife.co.uk
SUMMARY:Prize Bingo
DESCRIPTION:
URL:https://www.littleportlife.co.uk/event/prize-bingo-2/
LOCATION:Littleport Leisure Centre\, Camel Road\, Littleport\, Cambridgeshire\, CB6 1EW\, United Kingdom
CATEGORIES:Game Events
END:VEVENT
BEGIN:VEVENT
DTSTART;TZID=Europe/London:20150920T190000
DTEND;TZID=Europe/London:20150920T190000
DTSTAMP:20260421T063157
CREATED:20151003T081255Z
LAST-MODIFIED:20151003T081255Z
UID:763-1442775600-1442775600@www.littleportlife.co.uk
SUMMARY:Quiz Night In Aid of Littleport W.I.
DESCRIPTION:
URL:https://www.littleportlife.co.uk/event/quiz-night-in-aid-of-littleport-w-i/
LOCATION:Littleport Leisure Centre\, Camel Road\, Littleport\, Cambridgeshire\, CB6 1EW\, United Kingdom
END:VEVENT
BEGIN:VEVENT
DTSTART;TZID=Europe/London:20150920T000000
DTEND;TZID=Europe/London:20150920T000000
DTSTAMP:20260421T063157
CREATED:20151003T081255Z
LAST-MODIFIED:20151003T081416Z
UID:762-1442707200-1442707200@www.littleportlife.co.uk
SUMMARY:TA Agility Dog Show
DESCRIPTION:Outdoors
URL:https://www.littleportlife.co.uk/event/ta-agility-dog-show-2/
LOCATION:Littleport Leisure Centre\, Camel Road\, Littleport\, Cambridgeshire\, CB6 1EW\, United Kingdom
CATEGORIES:Dog Shows
END:VEVENT
BEGIN:VEVENT
DTSTART;TZID=Europe/London:20150919T204500
DTEND;TZID=Europe/London:20150919T204500
DTSTAMP:20260421T063157
CREATED:20151003T081255Z
LAST-MODIFIED:20151003T081255Z
UID:757-1442695500-1442695500@www.littleportlife.co.uk
SUMMARY:The Spree
DESCRIPTION:
URL:https://www.littleportlife.co.uk/event/the-spree/
LOCATION:Cambridgeshire
END:VEVENT
BEGIN:VEVENT
DTSTART;TZID=Europe/London:20150919T203000
DTEND;TZID=Europe/London:20150919T203000
DTSTAMP:20260421T063157
CREATED:20151003T081255Z
LAST-MODIFIED:20151003T081255Z
UID:760-1442694600-1442694600@www.littleportlife.co.uk
SUMMARY:VTII
DESCRIPTION:
URL:https://www.littleportlife.co.uk/event/vtii/
LOCATION:The Crown Inn\, Main Street\, Littleport\, Cambridgeshire\, CB6 1PJ\, United Kingdom
END:VEVENT
BEGIN:VEVENT
DTSTART;TZID=Europe/London:20150919T200000
DTEND;TZID=Europe/London:20150919T200000
DTSTAMP:20260421T063157
CREATED:20151003T081255Z
LAST-MODIFIED:20151003T083606Z
UID:759-1442692800-1442692800@www.littleportlife.co.uk
SUMMARY:Race Night
DESCRIPTION:
URL:https://www.littleportlife.co.uk/event/race-night/
LOCATION:Littleport Leisure Centre\, Camel Road\, Littleport\, Cambridgeshire\, CB6 1EW\, United Kingdom
CATEGORIES:Sporting Events
END:VEVENT
BEGIN:VEVENT
DTSTART;TZID=Europe/London:20150919T000000
DTEND;TZID=Europe/London:20150919T000000
DTSTAMP:20260421T063157
CREATED:20151003T081255Z
LAST-MODIFIED:20151003T081416Z
UID:758-1442620800-1442620800@www.littleportlife.co.uk
SUMMARY:TA Agility Dog Show
DESCRIPTION:Outdoors
URL:https://www.littleportlife.co.uk/event/ta-agility-dog-show/
LOCATION:Littleport Leisure Centre\, Camel Road\, Littleport\, Cambridgeshire\, CB6 1EW\, United Kingdom
CATEGORIES:Dog Shows
END:VEVENT
BEGIN:VEVENT
DTSTART;TZID=Europe/London:20150919T000000
DTEND;TZID=Europe/London:20150919T000000
DTSTAMP:20260421T063157
CREATED:20151003T081255Z
LAST-MODIFIED:20151003T081255Z
UID:761-1442620800-1442620800@www.littleportlife.co.uk
SUMMARY:The Littleport Society Open Day
DESCRIPTION:
URL:https://www.littleportlife.co.uk/event/the-littleport-society-open-day/
LOCATION:Cambridgeshire
END:VEVENT
BEGIN:VEVENT
DTSTART;TZID=Europe/London:20150918T190000
DTEND;TZID=Europe/London:20150918T190000
DTSTAMP:20260421T063157
CREATED:20151003T081255Z
LAST-MODIFIED:20151003T083607Z
UID:756-1442602800-1442602800@www.littleportlife.co.uk
SUMMARY:Cricket Presentation Evening
DESCRIPTION:
URL:https://www.littleportlife.co.uk/event/cricket-presentation-evening/
LOCATION:Littleport Leisure Centre\, Camel Road\, Littleport\, Cambridgeshire\, CB6 1EW\, United Kingdom
CATEGORIES:Sporting Events
END:VEVENT
BEGIN:VEVENT
DTSTART;TZID=Europe/London:20150914T090000
DTEND;TZID=Europe/London:20150914T090000
DTSTAMP:20260421T063157
CREATED:20151003T081254Z
LAST-MODIFIED:20151003T083607Z
UID:755-1442221200-1442221200@www.littleportlife.co.uk
SUMMARY:Over 60’s Bowls Tournament
DESCRIPTION:
URL:https://www.littleportlife.co.uk/event/over-60s-bowls-tournament/
LOCATION:Littleport Leisure Centre\, Camel Road\, Littleport\, Cambridgeshire\, CB6 1EW\, United Kingdom
CATEGORIES:Sporting Events
END:VEVENT
BEGIN:VEVENT
DTSTART;TZID=Europe/London:20150913T123000
DTEND;TZID=Europe/London:20150913T123000
DTSTAMP:20260421T063157
CREATED:20151003T081254Z
LAST-MODIFIED:20151003T081254Z
UID:754-1442147400-1442147400@www.littleportlife.co.uk
SUMMARY:Roast Carvery
DESCRIPTION:
URL:https://www.littleportlife.co.uk/event/roast-carvery/
LOCATION:Littleport Leisure Centre\, Camel Road\, Littleport\, Cambridgeshire\, CB6 1EW\, United Kingdom
END:VEVENT
BEGIN:VEVENT
DTSTART;TZID=Europe/London:20150913T000000
DTEND;TZID=Europe/London:20150913T000000
DTSTAMP:20260421T063157
CREATED:20151003T081254Z
LAST-MODIFIED:20151003T081416Z
UID:752-1442102400-1442102400@www.littleportlife.co.uk
SUMMARY:EABC Obstacle Dog Show
DESCRIPTION:Outdoors
URL:https://www.littleportlife.co.uk/event/eabc-obstacle-dog-show-2/
LOCATION:Littleport Leisure Centre\, Camel Road\, Littleport\, Cambridgeshire\, CB6 1EW\, United Kingdom
CATEGORIES:Dog Shows
END:VEVENT
BEGIN:VEVENT
DTSTART;TZID=Europe/London:20150913T000000
DTEND;TZID=Europe/London:20150913T000000
DTSTAMP:20260421T063157
CREATED:20151003T081254Z
LAST-MODIFIED:20151003T081416Z
UID:753-1442102400-1442102400@www.littleportlife.co.uk
SUMMARY:UKA Agility Show
DESCRIPTION:Outdoors
URL:https://www.littleportlife.co.uk/event/uka-agility-show-2/
LOCATION:Littleport Leisure Centre\, Camel Road\, Littleport\, Cambridgeshire\, CB6 1EW\, United Kingdom
CATEGORIES:Dog Shows
END:VEVENT
BEGIN:VEVENT
DTSTART;TZID=Europe/London:20150912T204500
DTEND;TZID=Europe/London:20150912T204500
DTSTAMP:20260421T063157
CREATED:20151003T081254Z
LAST-MODIFIED:20151003T082241Z
UID:751-1442090700-1442090700@www.littleportlife.co.uk
SUMMARY:Blue Thunder
DESCRIPTION:
URL:https://www.littleportlife.co.uk/event/blue-thunder/
LOCATION:The Crown Inn\, Main Street\, Littleport\, Cambridgeshire\, CB6 1PJ\, United Kingdom
CATEGORIES:Live Music
END:VEVENT
BEGIN:VEVENT
DTSTART;TZID=Europe/London:20150912T204500
DTEND;TZID=Europe/London:20150912T204500
DTSTAMP:20260421T063157
CREATED:20151003T081254Z
LAST-MODIFIED:20151003T082241Z
UID:747-1442090700-1442090700@www.littleportlife.co.uk
SUMMARY:Take 2
DESCRIPTION:60s\, 70s\, 80s and more
URL:https://www.littleportlife.co.uk/event/take-2/
LOCATION:Cambridgeshire
CATEGORIES:Live Music
END:VEVENT
BEGIN:VEVENT
DTSTART;TZID=Europe/London:20150912T183000
DTEND;TZID=Europe/London:20150912T183000
DTSTAMP:20260421T063157
CREATED:20151003T081254Z
LAST-MODIFIED:20151003T083805Z
UID:750-1442082600-1442082600@www.littleportlife.co.uk
SUMMARY:Prize Bingo
DESCRIPTION:
URL:https://www.littleportlife.co.uk/event/prize-bingo/
LOCATION:Littleport Leisure Centre\, Camel Road\, Littleport\, Cambridgeshire\, CB6 1EW\, United Kingdom
CATEGORIES:Game Events
END:VEVENT
BEGIN:VEVENT
DTSTART;TZID=Europe/London:20150912T000000
DTEND;TZID=Europe/London:20150912T000000
DTSTAMP:20260421T063157
CREATED:20151003T081254Z
LAST-MODIFIED:20151003T081416Z
UID:749-1442016000-1442016000@www.littleportlife.co.uk
SUMMARY:UKA Agility Show
DESCRIPTION:Outdoors
URL:https://www.littleportlife.co.uk/event/uka-agility-show/
LOCATION:Littleport Leisure Centre\, Camel Road\, Littleport\, Cambridgeshire\, CB6 1EW\, United Kingdom
CATEGORIES:Dog Shows
END:VEVENT
BEGIN:VEVENT
DTSTART;TZID=Europe/London:20150912T000000
DTEND;TZID=Europe/London:20150912T000000
DTSTAMP:20260421T063157
CREATED:20151003T081254Z
LAST-MODIFIED:20151003T081254Z
UID:748-1442016000-1442016000@www.littleportlife.co.uk
SUMMARY:EABC Obstacle Dog Show
DESCRIPTION:Outdoors
URL:https://www.littleportlife.co.uk/event/eabc-obstacle-dog-show/
LOCATION:Littleport Leisure Centre\, Camel Road\, Littleport\, Cambridgeshire\, CB6 1EW\, United Kingdom
END:VEVENT
BEGIN:VEVENT
DTSTART;TZID=Europe/London:20150908T193000
DTEND;TZID=Europe/London:20150908T193000
DTSTAMP:20260421T063157
CREATED:20151003T081254Z
LAST-MODIFIED:20151003T082241Z
UID:746-1441740600-1441740600@www.littleportlife.co.uk
SUMMARY:Banjo World
DESCRIPTION:Speaker Sean Moyser (‘Banjo World’).  Competition. Table Decoration in a wine glass
URL:https://www.littleportlife.co.uk/event/banjo-world/
LOCATION:Cambridgeshire
CATEGORIES:Live Music
END:VEVENT
BEGIN:VEVENT
DTSTART;TZID=Europe/London:20150908T190000
DTEND;TZID=Europe/London:20150908T190000
DTSTAMP:20260421T063157
CREATED:20151003T081254Z
LAST-MODIFIED:20151003T083805Z
UID:745-1441738800-1441738800@www.littleportlife.co.uk
SUMMARY:Quiz Night
DESCRIPTION:
URL:https://www.littleportlife.co.uk/event/quiz-night/
LOCATION:The Crown Inn\, Main Street\, Littleport\, Cambridgeshire\, CB6 1PJ\, United Kingdom
CATEGORIES:Game Events
END:VEVENT
BEGIN:VEVENT
DTSTART;TZID=Europe/London:20150906T103000
DTEND;TZID=Europe/London:20150906T103000
DTSTAMP:20260421T063157
CREATED:20151003T081254Z
LAST-MODIFIED:20151003T081254Z
UID:744-1441535400-1441535400@www.littleportlife.co.uk
SUMMARY:Great Ouse Kite Flyers Memorial Day
DESCRIPTION:
URL:https://www.littleportlife.co.uk/event/great-ouse-kite-flyers-memorial-day/
LOCATION:Littleport Leisure Centre\, Camel Road\, Littleport\, Cambridgeshire\, CB6 1EW\, United Kingdom
END:VEVENT
END:VCALENDAR